BEGIN:VCALENDAR
VERSION:2.0
PRODID:-//LUMINARIA - Encuentro de narrativa fantástica de Zaragoza - ECPv6.15.17.1//NONSGML v1.0//EN
CALSCALE:GREGORIAN
METHOD:PUBLISH
X-ORIGINAL-URL:http://www.luminariazaragoza.es
X-WR-CALDESC:Eventos para LUMINARIA - Encuentro de narrativa fantástica de Zaragoza
REFRESH-INTERVAL;VALUE=DURATION:PT1H
X-Robots-Tag:noindex
X-PUBLISHED-TTL:PT1H
BEGIN:VTIMEZONE
TZID:Europe/Madrid
BEGIN:DAYLIGHT
TZOFFSETFROM:+0100
TZOFFSETTO:+0200
TZNAME:CEST
DTSTART:20210328T010000
END:DAYLIGHT
BEGIN:STANDARD
TZOFFSETFROM:+0200
TZOFFSETTO:+0100
TZNAME:CET
DTSTART:20211031T010000
END:STANDARD
BEGIN:DAYLIGHT
TZOFFSETFROM:+0100
TZOFFSETTO:+0200
TZNAME:CEST
DTSTART:20220327T010000
END:DAYLIGHT
BEGIN:STANDARD
TZOFFSETFROM:+0200
TZOFFSETTO:+0100
TZNAME:CET
DTSTART:20221030T010000
END:STANDARD
BEGIN:DAYLIGHT
TZOFFSETFROM:+0100
TZOFFSETTO:+0200
TZNAME:CEST
DTSTART:20230326T010000
END:DAYLIGHT
BEGIN:STANDARD
TZOFFSETFROM:+0200
TZOFFSETTO:+0100
TZNAME:CET
DTSTART:20231029T010000
END:STANDARD
END:VTIMEZONE
BEGIN:VTIMEZONE
TZID:Europe/Helsinki
BEGIN:DAYLIGHT
TZOFFSETFROM:+0200
TZOFFSETTO:+0300
TZNAME:EEST
DTSTART:20210328T010000
END:DAYLIGHT
BEGIN:STANDARD
TZOFFSETFROM:+0300
TZOFFSETTO:+0200
TZNAME:EET
DTSTART:20211031T010000
END:STANDARD
BEGIN:DAYLIGHT
TZOFFSETFROM:+0200
TZOFFSETTO:+0300
TZNAME:EEST
DTSTART:20220327T010000
END:DAYLIGHT
BEGIN:STANDARD
TZOFFSETFROM:+0300
TZOFFSETTO:+0200
TZNAME:EET
DTSTART:20221030T010000
END:STANDARD
BEGIN:DAYLIGHT
TZOFFSETFROM:+0200
TZOFFSETTO:+0300
TZNAME:EEST
DTSTART:20230326T010000
END:DAYLIGHT
BEGIN:STANDARD
TZOFFSETFROM:+0300
TZOFFSETTO:+0200
TZNAME:EET
DTSTART:20231029T010000
END:STANDARD
END:VTIMEZONE
BEGIN:VEVENT
DTSTART;TZID=Europe/Madrid:20220918T133000
DTEND;TZID=Europe/Madrid:20220918T140000
DTSTAMP:20260426T060910
CREATED:20220910T014138Z
LAST-MODIFIED:20220912T080849Z
UID:3209-1663507800-1663509600@www.luminariazaragoza.es
SUMMARY:Ceremonia cierre II Luminaria y anuncios sobre el futuro...
DESCRIPTION:  \n\n 
URL:http://www.luminariazaragoza.es/acto/ceremonia-cierre-ii-luminaria-y-anuncios-sobre-el-futuro/
LOCATION:Sala Credence\, Pl. de San Lamberto\, 3\, Zaragoza\, Zaragoza\, 50004\, España
CATEGORIES:Actividad diurna,Presentación
END:VEVENT
BEGIN:VEVENT
DTSTART;TZID=Europe/Madrid:20220918T123000
DTEND;TZID=Europe/Madrid:20220918T133000
DTSTAMP:20260426T060910
CREATED:20220910T014012Z
LAST-MODIFIED:20220910T162450Z
UID:3207-1663504200-1663507800@www.luminariazaragoza.es
SUMMARY:Vermusito Literario Zaragozano
DESCRIPTION:
URL:http://www.luminariazaragoza.es/acto/vermusito-literario-zaragozano/
LOCATION:Sala Credence\, Pl. de San Lamberto\, 3\, Zaragoza\, Zaragoza\, 50004\, España
CATEGORIES:Actividad diurna,Mesa Redonda
END:VEVENT
BEGIN:VEVENT
DTSTART;TZID=Europe/Madrid:20220918T110000
DTEND;TZID=Europe/Madrid:20220918T123000
DTSTAMP:20260426T060910
CREATED:20220910T013859Z
LAST-MODIFIED:20220910T162434Z
UID:3205-1663498800-1663504200@www.luminariazaragoza.es
SUMMARY:Grabación de Podcast con público:  Café & Druids
DESCRIPTION:
URL:http://www.luminariazaragoza.es/acto/grabacion-de-podcast-con-publico-cafe-druids/
LOCATION:Sala Credence\, Pl. de San Lamberto\, 3\, Zaragoza\, Zaragoza\, 50004\, España
CATEGORIES:Actividad diurna,Animación
END:VEVENT
BEGIN:VEVENT
DTSTART;TZID=Europe/Madrid:20220917T200000
DTEND;TZID=Europe/Madrid:20220917T213000
DTSTAMP:20260426T060910
CREATED:20220910T013745Z
LAST-MODIFIED:20220910T162400Z
UID:3203-1663444800-1663450200@www.luminariazaragoza.es
SUMMARY:V Edición de los Microduelos de Sangre
DESCRIPTION:
URL:http://www.luminariazaragoza.es/acto/v-edicion-de-los-microduelos-de-sangre-2/
LOCATION:Sala Rock and Blues\, C. del Cuatro de Agosto\, 5\, Zaragoza\, Zaragoza\, 50003\, España
CATEGORIES:Actividad diurna,Concurso
END:VEVENT
BEGIN:VEVENT
DTSTART;TZID=Europe/Madrid:20220917T193000
DTEND;TZID=Europe/Madrid:20220917T200000
DTSTAMP:20260426T060910
CREATED:20220910T013635Z
LAST-MODIFIED:20220910T162335Z
UID:3201-1663443000-1663444800@www.luminariazaragoza.es
SUMMARY:Lectura interactiva de ESDLA por Sociedad Tolkien
DESCRIPTION:
URL:http://www.luminariazaragoza.es/acto/lectura-interactiva-de-esdla-por-sociedad-tolkien/
LOCATION:Sala Rock and Blues\, C. del Cuatro de Agosto\, 5\, Zaragoza\, Zaragoza\, 50003\, España
CATEGORIES:Actividad diurna,Animación
END:VEVENT
BEGIN:VEVENT
DTSTART;TZID=Europe/Madrid:20220917T183000
DTEND;TZID=Europe/Madrid:20220917T193000
DTSTAMP:20260426T060910
CREATED:20220910T013542Z
LAST-MODIFIED:20220913T200947Z
UID:3199-1663439400-1663443000@www.luminariazaragoza.es
SUMMARY:La narrativa cómica\, su dificultad a la hora de escribir y panorama actual de la literatura de humor
DESCRIPTION:
URL:http://www.luminariazaragoza.es/acto/la-narrativa-comica-su-dificultad-a-la-hora-de-escribir-y-panorama-actual-de-la-literatura-de-humor/
LOCATION:Sala Rock and Blues\, C. del Cuatro de Agosto\, 5\, Zaragoza\, Zaragoza\, 50003\, España
CATEGORIES:Actividad diurna,Mesa Redonda
END:VEVENT
BEGIN:VEVENT
DTSTART;TZID=Europe/Madrid:20220917T173000
DTEND;TZID=Europe/Madrid:20220917T183000
DTSTAMP:20260426T060910
CREATED:20220910T013420Z
LAST-MODIFIED:20220913T200459Z
UID:3197-1663435800-1663439400@www.luminariazaragoza.es
SUMMARY:Retrofuturismos: cuatro aproximaciones a la Historia desde la Ficción
DESCRIPTION:
URL:http://www.luminariazaragoza.es/acto/retrofuturismos-cuatro-aproximaciones-a-la-historia-desde-la-ficcion/
LOCATION:Sala Rock and Blues\, C. del Cuatro de Agosto\, 5\, Zaragoza\, Zaragoza\, 50003\, España
CATEGORIES:Actividad diurna,Mesa Redonda
END:VEVENT
BEGIN:VEVENT
DTSTART;TZID=Europe/Madrid:20220917T163000
DTEND;TZID=Europe/Madrid:20220917T173000
DTSTAMP:20260426T060910
CREATED:20220910T013314Z
LAST-MODIFIED:20220913T200416Z
UID:3195-1663432200-1663435800@www.luminariazaragoza.es
SUMMARY:Érase una vez un retelling
DESCRIPTION:
URL:http://www.luminariazaragoza.es/acto/erase-una-vez-un-retelling/
LOCATION:Sala Rock and Blues\, C. del Cuatro de Agosto\, 5\, Zaragoza\, Zaragoza\, 50003\, España
CATEGORIES:Actividad diurna,Mesa Redonda
END:VEVENT
BEGIN:VEVENT
DTSTART;TZID=Europe/Madrid:20220917T130000
DTEND;TZID=Europe/Madrid:20220917T140000
DTSTAMP:20260426T060910
CREATED:20220910T013158Z
LAST-MODIFIED:20220910T161650Z
UID:3193-1663419600-1663423200@www.luminariazaragoza.es
SUMMARY:Cuentacuentos
DESCRIPTION:
URL:http://www.luminariazaragoza.es/acto/cuentacuentos/
LOCATION:Sala Taller 2 – Sede San Valero\, Pl. de la Sta. Cruz\, s/n\, Zaragoza\, Zaragoza\, 50003\, España
CATEGORIES:Actividad diurna,Animación,Infantil
END:VEVENT
BEGIN:VEVENT
DTSTART;TZID=Europe/Madrid:20220917T130000
DTEND;TZID=Europe/Madrid:20220917T140000
DTSTAMP:20260426T060910
CREATED:20220910T013021Z
LAST-MODIFIED:20220913T200332Z
UID:3191-1663419600-1663423200@www.luminariazaragoza.es
SUMMARY:Creación de mundos fantásticos
DESCRIPTION:
URL:http://www.luminariazaragoza.es/acto/creacion-de-mundos-fantasticos/
LOCATION:Salón de Actos – Sede San Valero\, Pl. de la Sta. Cruz\, s/n\, Zaragoza\, Zaragoza\, 50003\, España
CATEGORIES:Actividad diurna,Mesa Redonda
END:VEVENT
BEGIN:VEVENT
DTSTART;TZID=Europe/Madrid:20220917T123000
DTEND;TZID=Europe/Madrid:20220917T140000
DTSTAMP:20260426T060910
CREATED:20220910T012851Z
LAST-MODIFIED:20220912T075618Z
UID:3189-1663417800-1663423200@www.luminariazaragoza.es
SUMMARY:Ride the Laughing: Cómo escribir diálogos cómicos\, pasarlo bien\, y hacer que tus lectores se echen unas risas
DESCRIPTION:
URL:http://www.luminariazaragoza.es/acto/ride-the-laughing-como-escribir-dialogos-comicos-pasarlo-bien-y-hacer-que-tus-lectores-se-echen-unas-risas/
LOCATION:Sala Taller – Sede San Valero\, Pl. de la Sta. Cruz\, s/n\, Zaragoza\, Zaragoza\, 50003\, España
CATEGORIES:Actividad diurna,Taller
END:VEVENT
BEGIN:VEVENT
DTSTART;TZID=Europe/Madrid:20220917T120000
DTEND;TZID=Europe/Madrid:20220917T130000
DTSTAMP:20260426T060910
CREATED:20220910T005824Z
LAST-MODIFIED:20220913T200225Z
UID:3165-1663416000-1663419600@www.luminariazaragoza.es
SUMMARY:El cuerpo como campo de batalla. ¿Soportan los movimientos modernos de literatura y cine de terror la vieja carne o estamos abocados a la hibridación?
DESCRIPTION:
URL:http://www.luminariazaragoza.es/acto/el-cuerpo-como-campo-de-batalla-soportan-los-movimientos-modernos-de-literatura-y-cine-de-terror-la-vieja-carne-o-estamos-abocados-a-la-hibridacion/
LOCATION:Salón de Actos – Sede San Valero\, Pl. de la Sta. Cruz\, s/n\, Zaragoza\, Zaragoza\, 50003\, España
CATEGORIES:Actividad diurna,Mesa Redonda
END:VEVENT
BEGIN:VEVENT
DTSTART;TZID=Europe/Madrid:20220917T120000
DTEND;TZID=Europe/Madrid:20220917T123000
DTSTAMP:20260426T060910
CREATED:20220910T012717Z
LAST-MODIFIED:20220910T015845Z
UID:3187-1663416000-1663417800@www.luminariazaragoza.es
SUMMARY:Ulrica y los librojuegos
DESCRIPTION:
URL:http://www.luminariazaragoza.es/acto/ulrica-y-los-librojuegos/
LOCATION:Sala Taller – Sede San Valero\, Pl. de la Sta. Cruz\, s/n\, Zaragoza\, Zaragoza\, 50003\, España
CATEGORIES:Actividad diurna,Taller
END:VEVENT
BEGIN:VEVENT
DTSTART;TZID=Europe/Madrid:20220917T110000
DTEND;TZID=Europe/Madrid:20220917T120000
DTSTAMP:20260426T060910
CREATED:20220910T012552Z
LAST-MODIFIED:20220910T161333Z
UID:3185-1663412400-1663416000@www.luminariazaragoza.es
SUMMARY:Narrativa ambiental\, más allá de los diálogos
DESCRIPTION:
URL:http://www.luminariazaragoza.es/acto/narrativa-ambiental-mas-alla-de-los-dialogo/
LOCATION:Sala Taller – Sede San Valero\, Pl. de la Sta. Cruz\, s/n\, Zaragoza\, Zaragoza\, 50003\, España
CATEGORIES:Actividad diurna,Mesa Redonda
END:VEVENT
BEGIN:VEVENT
DTSTART;TZID=Europe/Madrid:20220917T110000
DTEND;TZID=Europe/Madrid:20220917T120000
DTSTAMP:20260426T060910
CREATED:20220910T005610Z
LAST-MODIFIED:20220910T012026Z
UID:3163-1663412400-1663416000@www.luminariazaragoza.es
SUMMARY:¿Qué fue del cyberpunk?
DESCRIPTION:
URL:http://www.luminariazaragoza.es/acto/que-fue-del-cyberpunk/
LOCATION:Salón de Actos – Sede San Valero\, Pl. de la Sta. Cruz\, s/n\, Zaragoza\, Zaragoza\, 50003\, España
CATEGORIES:Actividad diurna,Mesa Redonda
END:VEVENT
BEGIN:VEVENT
DTSTART;TZID=Europe/Madrid:20220917T100000
DTEND;TZID=Europe/Madrid:20220917T110000
DTSTAMP:20260426T060910
CREATED:20220910T011620Z
LAST-MODIFIED:20220910T012101Z
UID:3168-1663408800-1663412400@www.luminariazaragoza.es
SUMMARY:Hasta la inclusión y más allá
DESCRIPTION:
URL:http://www.luminariazaragoza.es/acto/hasta-la-inclusion-y-mas-alla/
LOCATION:Sala Taller – Sede San Valero\, Pl. de la Sta. Cruz\, s/n\, Zaragoza\, Zaragoza\, 50003\, España
CATEGORIES:Actividad diurna,Mesa Redonda
END:VEVENT
BEGIN:VEVENT
DTSTART;TZID=Europe/Madrid:20220917T100000
DTEND;TZID=Europe/Madrid:20220917T110000
DTSTAMP:20260426T060910
CREATED:20220910T005136Z
LAST-MODIFIED:20220913T200114Z
UID:3159-1663408800-1663412400@www.luminariazaragoza.es
SUMMARY:Literatura juvenil: mucho más que un puente
DESCRIPTION:
URL:http://www.luminariazaragoza.es/acto/literatura-juvenil-mucho-mas-que-un-puente/
LOCATION:Salón de Actos – Sede San Valero\, Pl. de la Sta. Cruz\, s/n\, Zaragoza\, Zaragoza\, 50003\, España
CATEGORIES:Actividad diurna,Mesa Redonda
END:VEVENT
BEGIN:VEVENT
DTSTART;TZID=Europe/Madrid:20220916T230000
DTEND;TZID=Europe/Madrid:20220917T003000
DTSTAMP:20260426T060910
CREATED:20220910T001047Z
LAST-MODIFIED:20220910T012126Z
UID:3156-1663369200-1663374600@www.luminariazaragoza.es
SUMMARY:V Edición de los Microduelos de Sangre
DESCRIPTION:
URL:http://www.luminariazaragoza.es/acto/v-edicion-de-los-microduelos-de-sangre/
LOCATION:Sala La Bóveda del Albergue\, C. de los Predicadores\, 70\, Zaragoza\, Zaragoza\, 50003\, España
CATEGORIES:Actividad nocturna,Concurso
END:VEVENT
BEGIN:VEVENT
DTSTART;TZID=Europe/Madrid:20220916T200000
DTEND;TZID=Europe/Madrid:20220916T203000
DTSTAMP:20260426T060910
CREATED:20220910T000353Z
LAST-MODIFIED:20220914T064158Z
UID:3146-1663358400-1663360200@www.luminariazaragoza.es
SUMMARY:Proyección de 665
DESCRIPTION:
URL:http://www.luminariazaragoza.es/acto/proyeccion-de-665/
LOCATION:Salón de Actos – Sede San Valero\, Pl. de la Sta. Cruz\, s/n\, Zaragoza\, Zaragoza\, 50003\, España
CATEGORIES:Actividad diurna,Proyección
END:VEVENT
BEGIN:VEVENT
DTSTART;TZID=Europe/Madrid:20220916T193000
DTEND;TZID=Europe/Madrid:20220916T203000
DTSTAMP:20260426T060910
CREATED:20220910T000842Z
LAST-MODIFIED:20220910T012150Z
UID:3154-1663356600-1663360200@www.luminariazaragoza.es
SUMMARY:Cómo ser escritora en 5 minutos (al día)
DESCRIPTION:
URL:http://www.luminariazaragoza.es/acto/como-ser-escritora-en-5-minutos-al-dia/
LOCATION:Sala Taller – Sede San Valero\, Pl. de la Sta. Cruz\, s/n\, Zaragoza\, Zaragoza\, 50003\, España
CATEGORIES:Actividad diurna,Taller
END:VEVENT
BEGIN:VEVENT
DTSTART;TZID=Europe/Madrid:20220916T190000
DTEND;TZID=Europe/Madrid:20220916T200000
DTSTAMP:20260426T060910
CREATED:20220910T000244Z
LAST-MODIFIED:20220910T012202Z
UID:3144-1663354800-1663358400@www.luminariazaragoza.es
SUMMARY:Presentación de Muerte en Santa Rita de Elia Barceló
DESCRIPTION:
URL:http://www.luminariazaragoza.es/acto/presentacion-de-muerte-en-santa-rita-de-elia-barcelo/
LOCATION:Salón de Actos – Sede San Valero\, Pl. de la Sta. Cruz\, s/n\, Zaragoza\, Zaragoza\, 50003\, España
CATEGORIES:Actividad diurna,Presentación
END:VEVENT
BEGIN:VEVENT
DTSTART;TZID=Europe/Madrid:20220916T183000
DTEND;TZID=Europe/Madrid:20220916T193000
DTSTAMP:20260426T060910
CREATED:20220910T000735Z
LAST-MODIFIED:20220910T012213Z
UID:3152-1663353000-1663356600@www.luminariazaragoza.es
SUMMARY:La escritura a Psicoanálisis: taller de Literatura surrealista
DESCRIPTION:
URL:http://www.luminariazaragoza.es/acto/la-escritura-a-psicoanalisis-taller-de-literatura-surrealista/
LOCATION:Sala Taller – Sede San Valero\, Pl. de la Sta. Cruz\, s/n\, Zaragoza\, Zaragoza\, 50003\, España
CATEGORIES:Actividad diurna,Taller
END:VEVENT
BEGIN:VEVENT
DTSTART;TZID=Europe/Madrid:20220916T180000
DTEND;TZID=Europe/Madrid:20220916T190000
DTSTAMP:20260426T060910
CREATED:20220910T000130Z
LAST-MODIFIED:20220913T200012Z
UID:3142-1663351200-1663354800@www.luminariazaragoza.es
SUMMARY:Historias en el vacío: el presente y futuro de la space opera
DESCRIPTION:
URL:http://www.luminariazaragoza.es/acto/historias-en-el-vacio-el-presente-y-futuro-de-la-space-opera/
LOCATION:Salón de Actos – Sede San Valero\, Pl. de la Sta. Cruz\, s/n\, Zaragoza\, Zaragoza\, 50003\, España
CATEGORIES:Actividad diurna,Mesa Redonda
END:VEVENT
BEGIN:VEVENT
DTSTART;TZID=Europe/Madrid:20220916T173000
DTEND;TZID=Europe/Madrid:20220916T183000
DTSTAMP:20260426T060910
CREATED:20220910T000633Z
LAST-MODIFIED:20220910T012248Z
UID:3150-1663349400-1663353000@www.luminariazaragoza.es
SUMMARY:1001 aventuras en la punta de tu bolígrafo
DESCRIPTION:
URL:http://www.luminariazaragoza.es/acto/1001-aventuras-en-la-punta-de-tu-boligrafo/
LOCATION:Sala Taller – Sede San Valero\, Pl. de la Sta. Cruz\, s/n\, Zaragoza\, Zaragoza\, 50003\, España
CATEGORIES:Actividad diurna,Taller
END:VEVENT
BEGIN:VEVENT
DTSTART;TZID=Europe/Madrid:20220916T170000
DTEND;TZID=Europe/Madrid:20220916T180000
DTSTAMP:20260426T060910
CREATED:20220909T230524Z
LAST-MODIFIED:20220913T195647Z
UID:3124-1663347600-1663351200@www.luminariazaragoza.es
SUMMARY:Escribir a cuatro manos y no acabar a manotazos
DESCRIPTION:
URL:http://www.luminariazaragoza.es/acto/escribir-a-cuatro-manos-y-no-acabar-a-manotazos/
LOCATION:Salón de Actos – Sede San Valero\, Pl. de la Sta. Cruz\, s/n\, Zaragoza\, Zaragoza\, 50003\, España
CATEGORIES:Actividad diurna,Mesa Redonda
END:VEVENT
BEGIN:VEVENT
DTSTART;TZID=Europe/Madrid:20220916T160000
DTEND;TZID=Europe/Madrid:20220916T173000
DTSTAMP:20260426T060910
CREATED:20220910T000510Z
LAST-MODIFIED:20220910T012408Z
UID:3148-1663344000-1663349400@www.luminariazaragoza.es
SUMMARY:ROL y JUEGOS DE MESA
DESCRIPTION:
URL:http://www.luminariazaragoza.es/acto/rol-y-juegos-de-mesa/
LOCATION:Sala Taller – Sede San Valero\, Pl. de la Sta. Cruz\, s/n\, Zaragoza\, Zaragoza\, 50003\, España
CATEGORIES:Actividad diurna,Rol
END:VEVENT
BEGIN:VEVENT
DTSTART;TZID=Europe/Helsinki:20220916T160000
DTEND;TZID=Europe/Helsinki:20220916T170000
DTSTAMP:20260426T060910
CREATED:20220909T192507Z
LAST-MODIFIED:20220914T210648Z
UID:3015-1663344000-1663347600@www.luminariazaragoza.es
SUMMARY:La vampira en La torre de los siete murciélagos de Manuel Fernández y González
DESCRIPTION:
URL:http://www.luminariazaragoza.es/acto/la-vampira-en-la-torre-de-los-siete-murcielagos/
LOCATION:Salón de Actos – Sede San Valero\, Pl. de la Sta. Cruz\, s/n\, Zaragoza\, Zaragoza\, 50003\, España
CATEGORIES:Actividad diurna,Conferencia
END:VEVENT
END:VCALENDAR